BEGIN:VCALENDAR
VERSION:2.0
PRODID:-//Eagle FC - ECPv6.15.20//NONSGML v1.0//EN
CALSCALE:GREGORIAN
METHOD:PUBLISH
X-ORIGINAL-URL:http://www.eagle-fc.com
X-WR-CALDESC:Events for Eagle FC
REFRESH-INTERVAL;VALUE=DURATION:PT1H
X-Robots-Tag:noindex
X-PUBLISHED-TTL:PT1H
BEGIN:VTIMEZONE
TZID:America/New_York
BEGIN:DAYLIGHT
TZOFFSETFROM:-0500
TZOFFSETTO:-0400
TZNAME:EDT
DTSTART:20200308T070000
END:DAYLIGHT
BEGIN:STANDARD
TZOFFSETFROM:-0400
TZOFFSETTO:-0500
TZNAME:EST
DTSTART:20201101T060000
END:STANDARD
BEGIN:DAYLIGHT
TZOFFSETFROM:-0500
TZOFFSETTO:-0400
TZNAME:EDT
DTSTART:20210314T070000
END:DAYLIGHT
BEGIN:STANDARD
TZOFFSETFROM:-0400
TZOFFSETTO:-0500
TZNAME:EST
DTSTART:20211107T060000
END:STANDARD
BEGIN:DAYLIGHT
TZOFFSETFROM:-0500
TZOFFSETTO:-0400
TZNAME:EDT
DTSTART:20220313T070000
END:DAYLIGHT
BEGIN:STANDARD
TZOFFSETFROM:-0400
TZOFFSETTO:-0500
TZNAME:EST
DTSTART:20221106T060000
END:STANDARD
END:VTIMEZONE
BEGIN:VEVENT
DTSTART;TZID=America/New_York:20210307T190000
DTEND;TZID=America/New_York:20210307T200000
DTSTAMP:20260425T160149
CREATED:20210207T171643Z
LAST-MODIFIED:20210208T205949Z
UID:6614-1615143600-1615147200@www.eagle-fc.com
SUMMARY:Eagle FC College Recruiting Information Night
DESCRIPTION:Welcome to the 2021 Eagle FC Virtual College Recruiting Information Night \nPlease join us on Sunday\, March 7\, 2021 at 7:00 PM for our College Information Night ! Due to the ongoing pandemic\, this year’s event will be via Zoom and be open to the public. Have recruiting questions answered by our panel of college coaches. This year’s panel has a variety of local and out-of-state male and female coaches\, representing NCAA Division I and III programs. \nOur prestigious panel of college coaches will help parents and players understand their roles in the identification process by: \nCommunication.\nStaying on track during the process.\nSocial media and how it affects your opportunities.\nPlayer character.\nCollege recruiting during COVID-19 \nWHAT TO EXPECT? \nA revealing session on how to best position yourself as a college prospect.\nInformation on the latest NCAA recruiting and eligibility rules to ensure you will be NCAA compliant.\nStraight talk from college coaches\nAdvice on various ways to maximize your opportunities \nEVENT INFORMATION: \nDate: Sunday\, March 7\, 2021 \nTime: 7:00 p.m. – 8:00 p.m. \nLocation: Zoom Link – The link will be provided 72 hours prior to the event via email \nCost: FREE \nAges: NO AGE RESTRICTIONS
URL:http://www.eagle-fc.com/event/eagle-f-c-college-recruiting-information-night/
LOCATION:Zoom
CATEGORIES:Eagle FC Events
ATTACH;FMTTYPE=image/jpeg:http://www.eagle-fc.com/wp-content/uploads/2021/01/College-Recruiting-Update-header.jpg
ORGANIZER;CN="Toan Ngo":MAILTO:tngo@eagle-fc.com
END:VEVENT
END:VCALENDAR